BEGIN:VCALENDAR
VERSION:2.0
CALSCALE:GREGORIAN
METHOD:PUBLISH
PRODID://OMEA//402635
BEGIN:VEVENT
DTSTAMP:20260424T135436
VTIMEZONE:America/New_York
DTSTART:20251102T150000Z
DTEND:20251103T030000Z
UID:402635
SUMMARY:Piqua - State Marching Band Finals
LOCATION:Piqua High School, 1 Indian Trail , Piqua , OH, 45356
DESCRIPTION:Piqua - State Marching Band Finals\n\n11/02/25 10:00 AM EST\n - 11/02/25 10:00 PM EST\Description:\nTurf Field\nRatings Only\nCritique - No\nElectric - Yes\Location:\nPiqua High School\n1 Indian Trail \nPiqua , OH 45356
X-ALT-DESC;FMTTYPE=text/html:Piqua - State Marching Band Finals<br /><br />11/02/25 10:00 AM EST - 11/02/25 10:00 PM EST<br />Description:<br />Turf Field<br />
Ratings Only<br />
Critique - No<br />
Electric - Yes<br />Location:<br />Piqua High School<br />1 Indian Trail <br />Piqua , OH 45356
PRIORITY:3
TRANSP:TRANSPARENT
BEGIN:VALARM
TRIGGER:-PT5M
ACTION:DISPLAY
DESCRIPTION:Reminder
END:VALARM
END:VEVENT
END:VCALENDAR
