BEGIN:VCALENDAR
VERSION:2.0
CALSCALE:GREGORIAN
METHOD:PUBLISH
PRODID://OMEA//480025
BEGIN:VEVENT
DTSTAMP:20260421T051635
VTIMEZONE:America/New_York
DTSTART:20260313T200000Z
DTEND:20260314T020000Z
UID:480025
SUMMARY:D15 - HS LG - (Bands) - HS LG - Logan
LOCATION:Logan High School, 14470 St. Rt. Rt. 328, Logan, OH, 43138
DESCRIPTION:D15 - HS LG - (Bands) - HS LG - Logan\n\n03/13/26 04:00 PM EST\n - 03/13/26 10:00 PM EST\Location:\nLogan High School\n14470 St. Rt. Rt. 328\nLogan, OH 43138
X-ALT-DESC;FMTTYPE=text/html:D15 - HS LG - (Bands) - HS LG - Logan<br /><br />03/13/26 04:00 PM EST - 03/13/26 10:00 PM EST<br />Location:<br />Logan High School<br />14470 St. Rt. Rt. 328<br />Logan, OH 43138
PRIORITY:3
TRANSP:TRANSPARENT
BEGIN:VALARM
TRIGGER:-PT5M
ACTION:DISPLAY
DESCRIPTION:Reminder
END:VALARM
END:VEVENT
END:VCALENDAR
