BEGIN:VCALENDAR
VERSION:2.0
CALSCALE:GREGORIAN
METHOD:PUBLISH
PRODID://OMEA//490254
BEGIN:VEVENT
DTSTAMP:20260419T090515
VTIMEZONE:America/New_York
DTSTART:20270206T130000Z
DTEND:20270206T220000Z
UID:490254
SUMMARY:D9 - HS SE 
LOCATION:Meadowbrook High School, 58615 Marietta Rd. , Byesville, OH, 43723
DESCRIPTION:D9 - HS SE \n\n02/06/27 08:00 AM EST\n - 02/06/27 05:00 PM EST\Description:\nD9 - HS SE\Details:\nD9 - HS SE\Location:\nMeadowbrook High School\n58615 Marietta Rd. \nByesville, OH 43723
X-ALT-DESC;FMTTYPE=text/html:D9 - HS SE <br /><br />02/06/27 08:00 AM EST - 02/06/27 05:00 PM EST<br />Description:<br />D9 - HS SE<br />Details:<br />D9 - HS SE<br />Location:<br />Meadowbrook High School<br />58615 Marietta Rd. <br />Byesville, OH 43723
PRIORITY:3
TRANSP:TRANSPARENT
BEGIN:VALARM
TRIGGER:-PT5M
ACTION:DISPLAY
DESCRIPTION:Reminder
END:VALARM
END:VEVENT
END:VCALENDAR
