BEGIN:VCALENDAR
VERSION:2.0
CALSCALE:GREGORIAN
METHOD:PUBLISH
PRODID://OMEA//491488
BEGIN:VEVENT
DTSTAMP:20260419T164541
VTIMEZONE:America/New_York
DTSTART:20261121T130000Z
DTEND:20261122T010000Z
UID:491488
SUMMARY:D9 - Honors Choir
LOCATION:Marietta High School, 115 Academy Dr. , Marietta , OH, 45750
DESCRIPTION:D9 - Honors Choir\n\n11/21/26 08:00 AM EST\n - 11/21/26 08:00 PM EST\Description:\nDistrict 9 Honors Choir for Middle School and High School.\Details:\nDistrict 9 Honors Choir for Middle School and High School.\Location:\nMarietta High School\n115 Academy Dr. \nMarietta , OH 45750
X-ALT-DESC;FMTTYPE=text/html:D9 - Honors Choir<br /><br />11/21/26 08:00 AM EST - 11/21/26 08:00 PM EST<br />Description:<br />District 9 Honors Choir for Middle School and High School.<br />Details:<br />District 9 Honors Choir for Middle School and High School.<br />Location:<br />Marietta High School<br />115 Academy Dr. <br />Marietta , OH 45750
PRIORITY:3
TRANSP:TRANSPARENT
BEGIN:VALARM
TRIGGER:-PT5M
ACTION:DISPLAY
DESCRIPTION:Reminder
END:VALARM
END:VEVENT
END:VCALENDAR
