BEGIN:VCALENDAR
VERSION:2.0
CALSCALE:GREGORIAN
METHOD:PUBLISH
PRODID://OMEA//493810
BEGIN:VEVENT
DTSTAMP:20260421T031940
VTIMEZONE:America/New_York
DTSTART:20260501T203000Z
DTEND:20260502T020000Z
UID:493810
SUMMARY:D13 - JH LG
LOCATION:Garfield Middle School, 250 North Fair Avenue, Hamilton, OH, 45011
DESCRIPTION:D13 - JH LG\n\n05/01/26 04:30 PM EST\n - 05/01/26 10:00 PM EST\Location:\nGarfield Middle School\n250 North Fair Avenue\nHamilton, OH 45011
X-ALT-DESC;FMTTYPE=text/html:D13 - JH LG<br /><br />05/01/26 04:30 PM EST - 05/01/26 10:00 PM EST<br />Location:<br />Garfield Middle School<br />250 North Fair Avenue<br />Hamilton, OH 45011
PRIORITY:3
TRANSP:TRANSPARENT
BEGIN:VALARM
TRIGGER:-PT5M
ACTION:DISPLAY
DESCRIPTION:Reminder
END:VALARM
END:VEVENT
END:VCALENDAR
